BEGIN:VCALENDAR
PRODID:-//AT Content Types//AT Event//EN
VERSION:2.0
METHOD:PUBLISH
BEGIN:VEVENT
DTSTAMP:20260420T121735Z
CREATED:20210311T162407Z
UID:ATEvent-c0ab1b20f453482996d9bfec76c9af83
LAST-MODIFIED:20210311T162423Z
SUMMARY:Novena em vista da festa de São José
DTSTART:20210311T000000Z
DTEND:20210319T000000Z
DESCRIPTION:Neste contexto da pandemia\, em pleno ano de São José e 
 com o arranque do Ano Família Amoris Laetitia à porta\, a Pastoral d
 a Família propõe a todas as famílias uma novena em vista da festa d
 e São José\, a iniciar no dia 11-março e a terminar no dia 19-març
 o.
CONTACT:Pastoral da Família do Patriarcado de Lisboa
URL:http://familia.patriarcado-lisboa.pt//eventos/654-novena-a-s%c3%a3o-jos%c3%a9-11-a-19-de-mar%c3%a7o
CLASS:PUBLIC
END:VEVENT
END:VCALENDAR
